BEGIN:VCALENDAR
VERSION:2.0
PRODID:-//urwahl3000//gruene-kv-aurich-norden.de//DE
CALSCALE:GREGORIAN
BEGIN:VEVENT
DTSTART:20230504T190000
DTEND:20230504T223000
LOCATION:Kompaniehaus\, Dorfstraße 35 Berumerfehn
DTSTAMP:20230504T190000
SUMMARY:Kreismitgliederversammlung
URL;VALUE=URI:https://gruene-kv-aurich-norden.de/termin/kreismitgliederversammlung-7/
DESCRIPTION:Jahreshauptversammlung des Grünen Kreisverbandes Aurich-Norden

save the date ...
UID:20230504T190000-20230504T190000-20230504T223000
END:VEVENT
END:VCALENDAR